BEGIN:VCALENDAR
VERSION:2.0
PRODID:-//13.55.216.91//NONSGML kigkonsult.se iCalcreator 2.24.2//
CALSCALE:GREGORIAN
METHOD:PUBLISH
X-FROM-URL:https://yarranlea.qld.edu.au
X-WR-TIMEZONE:Australia/Brisbane
BEGIN:VTIMEZONE
TZID:Australia/Brisbane
X-LIC-LOCATION:Australia/Brisbane
BEGIN:STANDARD
DTSTART:19920301T030000
TZOFFSETFROM:+1100
TZOFFSETTO:+1000
TZNAME:AEST
END:STANDARD
END:VTIMEZONE
BEGIN:VEVENT
UID:ai1ec-2877@yarranlea.qld.edu.au
DTSTAMP:20190227T223552Z
CATEGORIES:
CONTACT:Paul Trotter\; principal@yarranlea.qld.edu.au
DESCRIPTION:
DTSTART;VALUE=DATE:20161209
DTEND;VALUE=DATE:20161210
GEO:-27.538668;+153.063668
LOCATION:Yarranlea Primary School @ 176 Messines Ridge Rd\, Mount Gravatt Q
 LD 4122\, Australia
SEQUENCE:0
SUMMARY:End of Term 4
URL:https://yarranlea.qld.edu.au/event/end-of-term-4/
X-COST-TYPE:free
END:VEVENT
BEGIN:VEVENT
UID:ai1ec-2961@yarranlea.qld.edu.au
DTSTAMP:20190227T223552Z
CATEGORIES:
CONTACT:
DESCRIPTION:Teachers’ Professional Development Days\nOver these three days\
 , the teachers will be working together in preparation for the coming acad
 emic year. We will be updating our first aid certification\, reviewing our
  risk management processes and planning for the term ahead using the ideas
  of our fabulous students following our end of year planning day.\nStudent
 s\, unless they are enrolled in OSHC Vacation Care\, should not attend the
 se days.
DTSTART;VALUE=DATE:20170118
DTEND;VALUE=DATE:20170121
GEO:-27.538667;+153.063649
LOCATION:Yarranlea Primary School @ 176 Messines Ridge Rd\, Mount Gravatt Q
 LD 4122\, Australia
SEQUENCE:0
SUMMARY:Professional Development Days
URL:https://yarranlea.qld.edu.au/event/professional-development-days/
X-COST-TYPE:free
X-ALT-DESC;FMTTYPE=text/html:<!DOCTYPE HTML PUBLIC '-//W3C//DTD HTML 3.2//E
 N'>\\n<HTML>\\n<HEAD>\\n<TITLE></TITLE>\\n</HEAD>\\n<BODY><h2>Teachers’ Pr
 ofessional Development Days</h2>\n<p>Over these three days\, the teachers 
 will be working together in preparation for the coming academic year. We w
 ill be updating our first aid certification\, reviewing our risk managemen
 t processes and planning for the term ahead using the ideas of our fabulou
 s students following our end of year planning day.</p>\n<p>Students\, unle
 ss they are enrolled in OSHC Vacation Care\, should not attend these days.
 </p>\n</BODY></HTML>
END:VEVENT
BEGIN:VEVENT
UID:ai1ec-3104@yarranlea.qld.edu.au
DTSTAMP:20190227T223552Z
CATEGORIES:
CONTACT:Paul Trotter\; +61737355902\; principal@yarranlea.qld.edu.au
DESCRIPTION:The GRIP Student Leadership Conference is unique in that it con
 centrates specifically on training student leaders for their role as SCHOO
 L LEADERS. The style\, topics\, and content of this conference all focus o
 n what the students can do RIGHT NOW.\nOur goal is that our student leader
 s would leave the conference with a clear vision\, a solid understanding a
 nd dozens of ideas for their time as a leader.\nhttp://gripleadership.com.
 au/content/primary/gjfdm0
DTSTART;VALUE=DATE:20170317
DTEND;VALUE=DATE:20170318
GEO:-27.514964;+153.146597
LOCATION:Sleeman Centre @ Cnr Old Cleveland & Tilley Roads\, Chandler QLD 4
 155\, Australia
SEQUENCE:0
SUMMARY:Primary Leadership Conference
URL:https://yarranlea.qld.edu.au/event/primary-leadership-conference/
X-COST-TYPE:free
X-ALT-DESC;FMTTYPE=text/html:<!DOCTYPE HTML PUBLIC '-//W3C//DTD HTML 3.2//E
 N'>\\n<HTML>\\n<HEAD>\\n<TITLE></TITLE>\\n</HEAD>\\n<BODY><p><strong>The G
 RIP Student Leadership Conference is unique in that it concentrates specif
 ically on training student leaders for their role as SCHOOL LEADERS. The s
 tyle\, topics\, and content of this conference all focus on what the stude
 nts can do RIGHT NOW.</strong></p>\n<p>Our goal is that our student leader
 s would leave the conference with a clear vision\, a solid understanding a
 nd dozens of ideas for their time as a leader.</p>\n<p><a href='http://gri
 pleadership.com.au/content/primary/gjfdm0'>http://gripleadership.com.au/co
 ntent/primary/gjfdm0</a></p>\n</BODY></HTML>
END:VEVENT
BEGIN:VEVENT
UID:ai1ec-3105@yarranlea.qld.edu.au
DTSTAMP:20190227T223552Z
CATEGORIES:
CONTACT:Paul Trotter\; principal@yarranlea.qld.edu.au
DESCRIPTION:We will be dressing up to celebrate our different interests and
  backgrounds. The only condition is that the students must be sunsafe.\nWe
  will be participating in a wide range of activities that will explore bul
 lying and how we can celebrate our differences.\nhttps://bullyingnoway.gov
 .au/\nhttp://www.harmony.gov.au/
DTSTART;VALUE=DATE:20170323
DTEND;VALUE=DATE:20170324
GEO:-27.544066;+153.065654
LOCATION:Yarranlea Primary School @ 176 Messines Ridge Rd\, Mount Gravatt Q
 LD 4122\, Australia
SEQUENCE:0
SUMMARY:Bullying\, No Way & Harmony Day
URL:https://yarranlea.qld.edu.au/event/bullying-no-way-harmony-day/
X-COST-TYPE:free
X-ALT-DESC;FMTTYPE=text/html:<!DOCTYPE HTML PUBLIC '-//W3C//DTD HTML 3.2//E
 N'>\\n<HTML>\\n<HEAD>\\n<TITLE></TITLE>\\n</HEAD>\\n<BODY><p>We will be dr
 essing up to celebrate our different interests and backgrounds. The only c
 ondition is that the students must be sunsafe.</p>\n<p>We will be particip
 ating in a wide range of activities that will explore bullying and how we 
 can celebrate our differences.</p>\n<p><a href='https://bullyingnoway.gov.
 au/'>https://bullyingnoway.gov.au/</a></p>\n<p><a href='http://www.harmony
 .gov.au/'>http://www.harmony.gov.au/</a></p>\n</BODY></HTML>
END:VEVENT
BEGIN:VEVENT
UID:ai1ec-2959@yarranlea.qld.edu.au
DTSTAMP:20190227T223552Z
CATEGORIES:
CONTACT:Paul Trotter\; principal@yarranlea.qld.edu.au
DESCRIPTION:End of Term 1\nFriday 31 March marks the end of Term 1. I hope 
 that the students enjoy a much-deserved break before returning to school o
 n Wednesday 19 April.
DTSTART;VALUE=DATE:20170331
DTEND;VALUE=DATE:20170401
GEO:-27.538667;+153.063649
LOCATION:Yarranlea Primary School @ 176 Messines Ridge Rd\, Mount Gravatt Q
 LD 4122\, Australia
SEQUENCE:0
SUMMARY:Last Day Term 1
URL:https://yarranlea.qld.edu.au/event/australia-day-holiday/
X-COST-TYPE:free
X-ALT-DESC;FMTTYPE=text/html:<!DOCTYPE HTML PUBLIC '-//W3C//DTD HTML 3.2//E
 N'>\\n<HTML>\\n<HEAD>\\n<TITLE></TITLE>\\n</HEAD>\\n<BODY><h2>End of Term 
 1</h2>\n<p>Friday 31 March marks the end of Term 1. I hope that the studen
 ts enjoy a much-deserved break before returning to school on Wednesday 19 
 April.</p>\n</BODY></HTML>
END:VEVENT
BEGIN:VEVENT
UID:ai1ec-3080@yarranlea.qld.edu.au
DTSTAMP:20190227T223552Z
CATEGORIES:
CONTACT:Admin\; 3735 5902\; admin@yarranlea.qld.edu.au
DESCRIPTION:Easter – Good Friday\, April 14\, 2017\nEaster Saturday\, April
  15\, 2017\n Easter Sunday – April 16\, 2017\nEaster Monday – April 17\, 2
 017\n \n 
DTSTART;VALUE=DATE:20170414
DTEND;VALUE=DATE:20170418
GEO:-27.544066;+153.065654
LOCATION:Yarranlea Primary Shchool @ 176 Messines Ridge Rd\, Mount Gravatt 
 QLD 4122\, Australia
SEQUENCE:0
SUMMARY:Easter Holidays
URL:https://yarranlea.qld.edu.au/event/public-holidays/
X-COST-TYPE:free
X-ALT-DESC;FMTTYPE=text/html:<!DOCTYPE HTML PUBLIC '-//W3C//DTD HTML 3.2//E
 N'>\\n<HTML>\\n<HEAD>\\n<TITLE></TITLE>\\n</HEAD>\\n<BODY><p><strong>Easte
 r </strong>– G<span class='date-display-single'>ood Friday\, April 14\, 20
 17</span></p>\n<p><span class='date-display-single'>Easter </span><span cl
 ass='date-display-single'>Saturday\, April 15\, 2017</span></p>\n<p><span 
 class='date-display-single'> Easter Sunday – April 16\, 2017</span></p>\n<
 p><span class='date-display-single'>Easter Monday – April 17\, 2017</span>
 </p>\n<p> </p>\n<p> </p>\n</BODY></HTML>
END:VEVENT
BEGIN:VEVENT
UID:ai1ec-3081@yarranlea.qld.edu.au
DTSTAMP:20190227T223552Z
CATEGORIES:
CONTACT:Tracey\; admin@yarranlea.qld.edu.au
DESCRIPTION: \nThis is a pupil free day.
DTSTART;VALUE=DATE:20170418
DTEND;VALUE=DATE:20170419
GEO:-27.543363;+153.065529
LOCATION:Yarranlea Primary School @ 176 Messines Ridge Rd\, Mount Gravatt Q
 LD 4122\, Australia
SEQUENCE:0
SUMMARY:Pupil Free Day
URL:https://yarranlea.qld.edu.au/event/pupil-free-day/
X-COST-TYPE:free
X-ALT-DESC;FMTTYPE=text/html:<!DOCTYPE HTML PUBLIC '-//W3C//DTD HTML 3.2//E
 N'>\\n<HTML>\\n<HEAD>\\n<TITLE></TITLE>\\n</HEAD>\\n<BODY><p> </p>\n<p>Thi
 s is a pupil free day.</p>\n</BODY></HTML>
END:VEVENT
BEGIN:VEVENT
UID:ai1ec-3091@yarranlea.qld.edu.au
DTSTAMP:20190227T223552Z
CATEGORIES:
CONTACT:Admin\; 3735 5902\; admin@yarranlea.qld.edu.au
DESCRIPTION:Start of Term 2 –  Wednesday 19th April 2017
DTSTART;VALUE=DATE:20170419
DTEND;VALUE=DATE:20170420
GEO:-27.544066;+153.065654
LOCATION:Yarranlea Primary School @ 176 Messines Ridge Rd\, Mount Gravatt Q
 LD 4122\, Australia
SEQUENCE:0
SUMMARY:Term 2 Starts
URL:https://yarranlea.qld.edu.au/event/term-2-starts/
X-COST-TYPE:free
X-ALT-DESC;FMTTYPE=text/html:<!DOCTYPE HTML PUBLIC '-//W3C//DTD HTML 3.2//E
 N'>\\n<HTML>\\n<HEAD>\\n<TITLE></TITLE>\\n</HEAD>\\n<BODY><p>Start of Term
  2 –  Wednesday 19th April 2017</p>\n</BODY></HTML>
END:VEVENT
BEGIN:VEVENT
UID:ai1ec-3098@yarranlea.qld.edu.au
DTSTAMP:20190227T223552Z
CATEGORIES:
CONTACT:Admin\; (07) 3735 5902\; admin@yarranlea.qld.edu.au
DESCRIPTION:Public Holiday – Anzac Day – Tuesday 25th April 2017
DTSTART;VALUE=DATE:20170425
DTEND;VALUE=DATE:20170426
GEO:-27.544066;+153.065654
LOCATION:Yarranlea Primary School @ 176 Messines Ridge Rd\, Mount Gravatt Q
 LD 4122\, Australia
SEQUENCE:0
SUMMARY:Public Holiday – Anzac Day
URL:https://yarranlea.qld.edu.au/event/public-holiday-anzac-day/
X-COST-TYPE:free
X-ALT-DESC;FMTTYPE=text/html:<!DOCTYPE HTML PUBLIC '-//W3C//DTD HTML 3.2//E
 N'>\\n<HTML>\\n<HEAD>\\n<TITLE></TITLE>\\n</HEAD>\\n<BODY><p>Public Holida
 y – Anzac Day – Tuesday 25th April 2017</p>\n</BODY></HTML>
END:VEVENT
BEGIN:VEVENT
UID:ai1ec-3099@yarranlea.qld.edu.au
DTSTAMP:20190227T223552Z
CATEGORIES:
CONTACT:Admin\; (07) 3735 5902\; admin@yarranlea.qld.edu.au
DESCRIPTION:Public Holiday – Labour Day – Monday 1st May\, 2017
DTSTART;VALUE=DATE:20170501
DTEND;VALUE=DATE:20170502
GEO:-27.544066;+153.065654
LOCATION:Yarranlea Primary School @ 176 Messines Ridge Rd\, Mount Gravatt Q
 LD 4122\, Australia
SEQUENCE:0
SUMMARY:Public Holiday – Labour Day
URL:https://yarranlea.qld.edu.au/event/public-holiday-labour-day/
X-COST-TYPE:free
X-ALT-DESC;FMTTYPE=text/html:<!DOCTYPE HTML PUBLIC '-//W3C//DTD HTML 3.2//E
 N'>\\n<HTML>\\n<HEAD>\\n<TITLE></TITLE>\\n</HEAD>\\n<BODY><p>Public Holida
 y – Labour Day – Monday 1st May\, 2017</p>\n</BODY></HTML>
END:VEVENT
BEGIN:VEVENT
UID:ai1ec-3095@yarranlea.qld.edu.au
DTSTAMP:20190227T223552Z
CATEGORIES:
CONTACT:Admin\; (07) 3735 5902\; admin@yarranlea.qld.edu
DESCRIPTION:Last Day of Term 2 – Friday 23rd June 2017
DTSTART;VALUE=DATE:20170623
DTEND;VALUE=DATE:20170624
GEO:-27.544066;+153.065654
LOCATION:Yarranlea Primary School @ 176 Messines Ridge Rd\, Mount Gravatt Q
 LD 4122\, Australia
SEQUENCE:0
SUMMARY:Last Day Term 2
URL:https://yarranlea.qld.edu.au/event/last-day-term-2/
X-COST-TYPE:free
X-ALT-DESC;FMTTYPE=text/html:<!DOCTYPE HTML PUBLIC '-//W3C//DTD HTML 3.2//E
 N'>\\n<HTML>\\n<HEAD>\\n<TITLE></TITLE>\\n</HEAD>\\n<BODY><p>Last Day of T
 erm 2 – Friday 23rd June 2017</p>\n</BODY></HTML>
END:VEVENT
BEGIN:VEVENT
UID:ai1ec-3093@yarranlea.qld.edu.au
DTSTAMP:20190227T223552Z
CATEGORIES:
CONTACT:Admin\; 3735 5902\; admin@yarranlea.qld.edu.au
DESCRIPTION:Term 3 Starts – Monday 10th July 2017
DTSTART;VALUE=DATE:20170710
DTEND;VALUE=DATE:20170711
GEO:-27.544066;+153.065654
LOCATION:Yarranlea Primary School @ 176 Messines Ridge Rd\, Mount Gravatt Q
 LD 4122\, Australia
SEQUENCE:0
SUMMARY:Term 3 Starts
URL:https://yarranlea.qld.edu.au/event/term-3-starts/
X-COST-TYPE:free
X-ALT-DESC;FMTTYPE=text/html:<!DOCTYPE HTML PUBLIC '-//W3C//DTD HTML 3.2//E
 N'>\\n<HTML>\\n<HEAD>\\n<TITLE></TITLE>\\n</HEAD>\\n<BODY><p>Term 3 Starts
  – Monday 10th July 2017</p>\n</BODY></HTML>
END:VEVENT
BEGIN:VEVENT
UID:ai1ec-3107@yarranlea.qld.edu.au
DTSTAMP:20190227T223552Z
CATEGORIES:
CONTACT:
DESCRIPTION:https://www.griffith.edu.au/open-day\n 
DTSTART;VALUE=DATE:20170723
DTEND;VALUE=DATE:20170724
GEO:-27.553679;+153.053674
LOCATION:Griffith University Nathan Campus @ 170 Kessels Rd\, Nathan QLD 41
 11\, Australia
SEQUENCE:0
SUMMARY:Griffith University Open Day
URL:https://yarranlea.qld.edu.au/event/griffith-university-open-day/
X-COST-TYPE:free
X-ALT-DESC;FMTTYPE=text/html:<!DOCTYPE HTML PUBLIC '-//W3C//DTD HTML 3.2//E
 N'>\\n<HTML>\\n<HEAD>\\n<TITLE></TITLE>\\n</HEAD>\\n<BODY><p><a href='http
 s://www.griffith.edu.au/open-day'>https://www.griffith.edu.au/open-day</a>
 </p>\n<p> </p>\n</BODY></HTML>
END:VEVENT
BEGIN:VEVENT
UID:ai1ec-3100@yarranlea.qld.edu.au
DTSTAMP:20190227T223552Z
CATEGORIES:
CONTACT:Admin\; (07) 3735 5902\; admin@yarranlea.qld.edu.au
DESCRIPTION:Public Holiday – Ekka – Wednesday 16th August\, 2017
DTSTART;VALUE=DATE:20170816
DTEND;VALUE=DATE:20170817
GEO:-27.544066;+153.065654
LOCATION:Yarranlea Primary School @ 176 Messines Ridge Rd\, Mount Gravatt Q
 LD 4122\, Australia
SEQUENCE:0
SUMMARY:Public Holiday – Ekka – Brisbane Show Day
URL:https://yarranlea.qld.edu.au/event/public-holiday-ekka/
X-COST-TYPE:free
X-ALT-DESC;FMTTYPE=text/html:<!DOCTYPE HTML PUBLIC '-//W3C//DTD HTML 3.2//E
 N'>\\n<HTML>\\n<HEAD>\\n<TITLE></TITLE>\\n</HEAD>\\n<BODY><p>Public Holida
 y – Ekka – Wednesday 16th August\, 2017</p>\n</BODY></HTML>
END:VEVENT
BEGIN:VEVENT
UID:ai1ec-3096@yarranlea.qld.edu.au
DTSTAMP:20190227T223552Z
CATEGORIES:
CONTACT:Admin\; (07) 3735 5902\; admin@yarranlea.qld.edu.au
DESCRIPTION:Last Day Term 3 – Friday 15th September 2017
DTSTART;VALUE=DATE:20170915
DTEND;VALUE=DATE:20170916
GEO:-27.544066;+153.065654
LOCATION:Yarranlea Primary School @ 176 Messines Ridge Rd\, Mount Gravatt Q
 LD 4122\, Australia
SEQUENCE:0
SUMMARY:Last Day Term 3
URL:https://yarranlea.qld.edu.au/event/last-day-term-3/
X-COST-TYPE:free
X-ALT-DESC;FMTTYPE=text/html:<!DOCTYPE HTML PUBLIC '-//W3C//DTD HTML 3.2//E
 N'>\\n<HTML>\\n<HEAD>\\n<TITLE></TITLE>\\n</HEAD>\\n<BODY><p>Last Day Term
  3 – Friday 15th September 2017</p>\n</BODY></HTML>
END:VEVENT
BEGIN:VEVENT
UID:ai1ec-3101@yarranlea.qld.edu.au
DTSTAMP:20190227T223552Z
CATEGORIES:
CONTACT:Admin\; (07) 3735 5902\; admin@yarranlea.qld.edu.au
DESCRIPTION:Public Holiday – Queens Birthday – Monday 2nd October\, 2017
DTSTART;VALUE=DATE:20171002
DTEND;VALUE=DATE:20171003
GEO:-27.544066;+153.065654
LOCATION:Yarranlea Primary School @ 176 Messines Ridge Rd\, Mount Gravatt Q
 LD 4122\, Australia
SEQUENCE:0
SUMMARY:Public Holiday – Queens Birthday
URL:https://yarranlea.qld.edu.au/event/public-holiday-queens-birthday/
X-COST-TYPE:free
X-ALT-DESC;FMTTYPE=text/html:<!DOCTYPE HTML PUBLIC '-//W3C//DTD HTML 3.2//E
 N'>\\n<HTML>\\n<HEAD>\\n<TITLE></TITLE>\\n</HEAD>\\n<BODY><p>Public Holida
 y – Queens Birthday – Monday 2nd October\, 2017</p>\n</BODY></HTML>
END:VEVENT
BEGIN:VEVENT
UID:ai1ec-3094@yarranlea.qld.edu.au
DTSTAMP:20190227T223552Z
CATEGORIES:
CONTACT:Admin\; (07)  3735 5902\; admin@yarranlea.qld.edu.au
DESCRIPTION:Term 4 Starts – Tuesday 3rd October\, 2017
DTSTART;VALUE=DATE:20171003
DTEND;VALUE=DATE:20171004
GEO:-27.544066;+153.065654
LOCATION:Yarranlea Primary School @ 176 Messines Ridge Rd\, Mount Gravatt Q
 LD 4122\, Australia
SEQUENCE:0
SUMMARY:Term 4 Starts
URL:https://yarranlea.qld.edu.au/event/term-4-starts/
X-COST-TYPE:free
X-ALT-DESC;FMTTYPE=text/html:<!DOCTYPE HTML PUBLIC '-//W3C//DTD HTML 3.2//E
 N'>\\n<HTML>\\n<HEAD>\\n<TITLE></TITLE>\\n</HEAD>\\n<BODY><p>Term 4 Starts
  – Tuesday 3rd October\, 2017</p>\n</BODY></HTML>
END:VEVENT
BEGIN:VEVENT
UID:ai1ec-3097@yarranlea.qld.edu.au
DTSTAMP:20190227T223552Z
CATEGORIES:
CONTACT:Admin\; (07) 3735 5902\; admin@yarranlea.qld.edu.au
DESCRIPTION:Last Day Term 4 – Wednesday 6th December 2017
DTSTART;VALUE=DATE:20171206
DTEND;VALUE=DATE:20171207
GEO:-27.544066;+153.065654
LOCATION:Yarranlea Primary School @ 176 Messines Ridge Rd\, Mount Gravatt Q
 LD 4122\, Australia
SEQUENCE:0
SUMMARY:Term 4 Last Day
URL:https://yarranlea.qld.edu.au/event/last-day-term-4/
X-COST-TYPE:free
X-ALT-DESC;FMTTYPE=text/html:<!DOCTYPE HTML PUBLIC '-//W3C//DTD HTML 3.2//E
 N'>\\n<HTML>\\n<HEAD>\\n<TITLE></TITLE>\\n</HEAD>\\n<BODY><p>Last Day Term
  4 – Wednesday 6th December 2017</p>\n</BODY></HTML>
END:VEVENT
BEGIN:VEVENT
UID:ai1ec-3102@yarranlea.qld.edu.au
DTSTAMP:20190227T223552Z
CATEGORIES:
CONTACT:Admin\; (07) 3735 5902\; admin@yarranlea.qld.edu.au
DESCRIPTION:Public Holiday – Christmas Day – Monday 25th December\, 2017
DTSTART;VALUE=DATE:20171225
DTEND;VALUE=DATE:20171226
GEO:-27.543324;+153.065537
LOCATION:Yarranlea Primary School @ 176 Messines Ridge Rd\, Mount Gravatt Q
 LD 4122\, Australia
SEQUENCE:0
SUMMARY:Public Holiday – Christmas Day
URL:https://yarranlea.qld.edu.au/event/public-holiday-christmas-day/
X-COST-TYPE:free
X-ALT-DESC;FMTTYPE=text/html:<!DOCTYPE HTML PUBLIC '-//W3C//DTD HTML 3.2//E
 N'>\\n<HTML>\\n<HEAD>\\n<TITLE></TITLE>\\n</HEAD>\\n<BODY><p>Public Holida
 y – Christmas Day – Monday 25th December\, 2017</p>\n</BODY></HTML>
END:VEVENT
BEGIN:VEVENT
UID:ai1ec-3103@yarranlea.qld.edu.au
DTSTAMP:20190227T223552Z
CATEGORIES:
CONTACT:admin\; (07) 3735 5902\; admin@yarranlea.qld.edu.au
DESCRIPTION:Public Holiday – Boxing Day – Tuesday 26th December\, 2017
DTSTART;VALUE=DATE:20171226
DTEND;VALUE=DATE:20171227
GEO:-27.544066;+153.065654
LOCATION:Yarranlea Primary School @ 176 Messines Ridge Rd\, Mount Gravatt Q
 LD 4122\, Australia
SEQUENCE:0
SUMMARY:Public Holiday – Boxing Day
URL:https://yarranlea.qld.edu.au/event/public-holiday-boxing-day/
X-COST-TYPE:free
X-ALT-DESC;FMTTYPE=text/html:<!DOCTYPE HTML PUBLIC '-//W3C//DTD HTML 3.2//E
 N'>\\n<HTML>\\n<HEAD>\\n<TITLE></TITLE>\\n</HEAD>\\n<BODY><p>Public Holida
 y – Boxing Day – Tuesday 26th December\, 2017</p>\n</BODY></HTML>
END:VEVENT
BEGIN:VEVENT
UID:ai1ec-2874@yarranlea.qld.edu.au
DTSTAMP:20190227T223552Z
CATEGORIES:
CONTACT:Paul Trotter
DESCRIPTION:
DTSTART;TZID=Australia/Brisbane:20161124T100000
DTEND;TZID=Australia/Brisbane:20161124T113000
GEO:-27.538668;+153.063668
LOCATION:Yarranlea Primary School @ 176 Messines Ridge Rd\, Mount Gravatt Q
 LD 4122\, Australia
SEQUENCE:0
SUMMARY:Indian Cooking
URL:https://yarranlea.qld.edu.au/event/indian-cooking/
X-COST-TYPE:free
END:VEVENT
BEGIN:VEVENT
UID:ai1ec-2872@yarranlea.qld.edu.au
DTSTAMP:20190227T223552Z
CATEGORIES:
CONTACT:Briann Simmons
DESCRIPTION:
DTSTART;TZID=Australia/Brisbane:20161125T180000
DTEND;TZID=Australia/Brisbane:20161125T200000
GEO:-27.538668;+153.063668
LOCATION:Yarranlea Primary School @ 176 Messines Ridge Rd\, Mount Gravatt Q
 LD 4122\, Australia
SEQUENCE:0
SUMMARY:School Disco
URL:https://yarranlea.qld.edu.au/event/school-disco/
X-COST-TYPE:free
X-COST:$5
END:VEVENT
BEGIN:VEVENT
UID:ai1ec-2875@yarranlea.qld.edu.au
DTSTAMP:20190227T223552Z
CATEGORIES:
CONTACT:Carmen Hooper\; c.hooper@yarranlea.qld.edu.au
DESCRIPTION:
DTSTART;TZID=Australia/Brisbane:20161205T180000
DTEND;TZID=Australia/Brisbane:20161205T193000
GEO:-27.538668;+153.063668
LOCATION:Griffith University Drama Rooms @ 176 Messines Ridge Rd\, Mount Gr
 avatt QLD 4122\, Australia
SEQUENCE:0
SUMMARY:School Musical
URL:https://yarranlea.qld.edu.au/event/school-musical/
X-COST-TYPE:free
END:VEVENT
BEGIN:VEVENT
UID:ai1ec-2876@yarranlea.qld.edu.au
DTSTAMP:20190227T223552Z
CATEGORIES:
CONTACT:Carmen Hooper\; c.hooper@yarranlea.qld.edu.au
DESCRIPTION:This date has been altered due to an excursion opportunity on t
 he original date.
DTSTART;TZID=Australia/Brisbane:20161207T140000
DTEND;TZID=Australia/Brisbane:20161207T150000
GEO:-27.538668;+153.063668
LOCATION:Yarranlea Primary School @ 176 Messines Ridge Rd\, Mount Gravatt Q
 LD 4122\, Australia
SEQUENCE:0
SUMMARY:Learners’ Concert
URL:https://yarranlea.qld.edu.au/event/learners-concert/
X-COST-TYPE:free
X-ALT-DESC;FMTTYPE=text/html:<!DOCTYPE HTML PUBLIC '-//W3C//DTD HTML 3.2//E
 N'>\\n<HTML>\\n<HEAD>\\n<TITLE></TITLE>\\n</HEAD>\\n<BODY><p>This date has
  been altered due to an excursion opportunity on the original date.</p>\n<
 /BODY></HTML>
END:VEVENT
BEGIN:VEVENT
UID:ai1ec-2895@yarranlea.qld.edu.au
DTSTAMP:20190227T223552Z
CATEGORIES:
CONTACT:David Costin\; d.costin@yarranlea.qld.edu.au
DESCRIPTION:
DTSTART;TZID=Australia/Brisbane:20161208T090000
DTEND;TZID=Australia/Brisbane:20161208T133000
GEO:-27.471331;+153.016951
LOCATION:GOMA @ Stanley Pl\, South Brisbane QLD 4101\, Australia
SEQUENCE:0
SUMMARY:GOMA Excursion
URL:https://yarranlea.qld.edu.au/event/goma-excursion/
X-COST-TYPE:free
END:VEVENT
BEGIN:VEVENT
UID:ai1ec-3078@yarranlea.qld.edu.au
DTSTAMP:20190227T223552Z
CATEGORIES:
CONTACT:
DESCRIPTION:Term 1 – 23 January to 31 March 2017 (10 weeks)\nTerm 2 – 19 Ap
 ril to 20 June 2017 (10 weeks)\nTerm 3 – 10 July to 15 September 2017 (10 
 weeks)\nTerm 4 – 3 October to 6 December (10 weeks)\n 
DTSTART;TZID=Australia/Brisbane:20170123T000000
DTEND;TZID=Australia/Brisbane:20170123T000000
SEQUENCE:0
SUMMARY:Term Dates
URL:https://yarranlea.qld.edu.au/event/school-terms/
X-COST-TYPE:free
X-ALT-DESC;FMTTYPE=text/html:<!DOCTYPE HTML PUBLIC '-//W3C//DTD HTML 3.2//E
 N'>\\n<HTML>\\n<HEAD>\\n<TITLE></TITLE>\\n</HEAD>\\n<BODY><p><strong>Term 
 1</strong> – 23 January to 31 March 2017 (10 weeks)</p>\n<p><strong>Term 2
 </strong> – 19 April to 20 June 2017 (10 weeks)</p>\n<p><strong>Term 3</st
 rong> – 10 July to 15 September 2017 (10 weeks)</p>\n<p><strong>Term 4</st
 rong> – 3 October to 6 December (10 weeks)</p>\n<p> </p>\n</BODY></HTML>
END:VEVENT
BEGIN:VEVENT
UID:ai1ec-2958@yarranlea.qld.edu.au
DTSTAMP:20190227T223552Z
CATEGORIES:
CONTACT:Paul Trotter\; principal@yarranlea.qld.edu.au
DESCRIPTION:Welcome back to the start of the 2017 Academic Year\nIt will be
  wonderful to see our returning students once more after the break. I am e
 specially looking forward to greeting our new students to our fabulous sch
 ool.
DTSTART;TZID=Australia/Brisbane:20170123T090000
GEO:-27.538667;+153.063649
LOCATION:Yarranlea Primary School @ 176 Messines Ridge Rd\, Mount Gravatt Q
 LD 4122\, Australia
SEQUENCE:0
SUMMARY:School Commences
URL:https://yarranlea.qld.edu.au/event/school-commences/
X-COST-TYPE:free
X-ALT-DESC;FMTTYPE=text/html:<!DOCTYPE HTML PUBLIC '-//W3C//DTD HTML 3.2//E
 N'>\\n<HTML>\\n<HEAD>\\n<TITLE></TITLE>\\n</HEAD>\\n<BODY><h3>Welcome back
  to the start of the 2017 Academic Year</h3>\n<p>It will be wonderful to s
 ee our returning students once more after the break. I am especially looki
 ng forward to greeting our new students to our fabulous school.</p>\n</BOD
 Y></HTML>
X-INSTANT-EVENT:1
END:VEVENT
BEGIN:VEVENT
UID:ai1ec-2965@yarranlea.qld.edu.au
DTSTAMP:20190227T223552Z
CATEGORIES:
CONTACT:Carmen Hooper\; c.hooper@yarranlea.qld.edu.au
DESCRIPTION:Dear Yarranlea Families\,\nMrs Hooper is thrilled to announce t
 hat Yarranlea Primary School is set to launch its very own Instrumental St
 ring Music programme\, incorporating all students from Years 2 to 6! In ad
 dition\, Year 1’s will have their very own keyboard class each week.\nPlea
 se keep Monday evening the 30th January free\, as I will be hosting a Musi
 c Information Session from 6.30pm. Both parents and students are encourage
 d to attend.\nCarmen Hooper
DTSTART;TZID=Australia/Brisbane:20170130T183000
DTEND;TZID=Australia/Brisbane:20170130T193000
GEO:-27.538667;+153.063649
LOCATION:Yarranlea Primary School @ 176 Messines Ridge Rd\, Mount Gravatt Q
 LD 4122\, Australia
SEQUENCE:0
SUMMARY:Instrumental Music Information Evening
URL:https://yarranlea.qld.edu.au/event/instrumental-music-information-eveni
 ng/
X-COST-TYPE:free
X-ALT-DESC;FMTTYPE=text/html:<!DOCTYPE HTML PUBLIC '-//W3C//DTD HTML 3.2//E
 N'>\\n<HTML>\\n<HEAD>\\n<TITLE></TITLE>\\n</HEAD>\\n<BODY><p class='p1'><s
 pan class='s1'>Dear Yarranlea Families\,</span></p>\n<p class='p1'><span c
 lass='s1'>Mrs Hooper is thrilled to announce that Yarranlea Primary School
  is set to launch its very own Instrumental String Music programme\, incor
 porating all students from Years 2 to 6! In addition\, Year 1’s will have 
 their very own keyboard class each week.</span></p>\n<p class='p1'><span c
 lass='s1'>Please keep Monday evening the 30</span><span class='s2'><sup>th
 </sup></span><span class='s1'> January free\, as I will be hosting a Music
  Information Session from 6.30pm. Both parents and students are encouraged
  to attend.</span></p>\n<p class='p1'><span class='s1'>Carmen Hooper</span
 ></p>\n</BODY></HTML>
END:VEVENT
BEGIN:VEVENT
UID:ai1ec-3006@yarranlea.qld.edu.au
DTSTAMP:20190227T223552Z
CATEGORIES:
CONTACT:Briann Simmons\; bsimm6@eq.edu.au
DESCRIPTION:P&F Meeting\nOur next P&F (Parents and Friends) meeting will be
  held on Wednesday the 8th February at 6pm. We aim to have these meetings 
 finished by 7:30pm if not sooner. Everyone is welcome\, so please come alo
 ng\, be involved and share your thoughts on agenda items.\nAny Agenda item
 s can be forwarded to Paula- Secretary (pabrough@gmail.com) or myself (bsi
 mm6@eq.edu.au).\nAll items must be sent no later than Friday 3rd February 
 to be considered at the next meeting. The Agenda will be sent out Early ne
 xt week.
DTSTART;TZID=Australia/Brisbane:20170208T180000
DTEND;TZID=Australia/Brisbane:20170208T193000
GEO:-27.544066;+153.065654
LOCATION:Yarranlea Primary School @ 176 Messines Ridge Rd\, Mount Gravatt Q
 LD 4122\, Australia
SEQUENCE:0
SUMMARY:P&F Meeting
URL:https://yarranlea.qld.edu.au/event/pf-meeting/
X-COST-TYPE:free
X-ALT-DESC;FMTTYPE=text/html:<!DOCTYPE HTML PUBLIC '-//W3C//DTD HTML 3.2//E
 N'>\\n<HTML>\\n<HEAD>\\n<TITLE></TITLE>\\n</HEAD>\\n<BODY><p class='p1'><s
 pan class='s1'>P&F Meeting</span></p>\n<p class='p2'><span class='s1'>Our 
 next P&F (Parents and Friends) meeting will be held on Wednesday the 8th F
 ebruary at 6pm. We aim to have these meetings finished by 7:30pm if not so
 oner. Everyone is welcome\, so please come along\, be involved and share y
 our thoughts on agenda items.</span></p>\n<p class='p2'><span class='s1'>A
 ny Agenda items can be forwarded to Paula- Secretary (<a href='mailto:pabr
 ough@gmail.com'><span class='s2'>pabrough@gmail.com</span></a>) or myself 
 (<a href='mailto:bsimm6@eq.edu.au'><span class='s2'>bsimm6@eq.edu.au</span
 ></a>).</span></p>\n<p class='p2'><span class='s1'>All items must be sent 
 no later than Friday 3rd February to be considered at the next meeting. Th
 e Agenda will be sent out Early next week.</span></p>\n</BODY></HTML>
END:VEVENT
BEGIN:VEVENT
UID:ai1ec-2974@yarranlea.qld.edu.au
DTSTAMP:20190227T223552Z
CATEGORIES:
CONTACT:
DESCRIPTION:The Annual Welcome BBQ\nEveryone is welcome to a welcome BBQ. I
 t will be held at the school and sausages will be provided. It would be ap
 preciated if each family could bring a plate of food to share. This is a f
 riendly and informal social event.
DTSTART;TZID=Australia/Brisbane:20170210T180000
DTEND;TZID=Australia/Brisbane:20170210T200000
GEO:-27.543767;+153.065985
LOCATION:School @ 5\, International Building\, 176 Messines Ridge Rd\, Moun
 t Gravatt QLD 4122\, Australia
SEQUENCE:0
SUMMARY:Welcome BBQ
URL:https://yarranlea.qld.edu.au/event/welcome-bbq/
X-COST-TYPE:free
X-ALT-DESC;FMTTYPE=text/html:<!DOCTYPE HTML PUBLIC '-//W3C//DTD HTML 3.2//E
 N'>\\n<HTML>\\n<HEAD>\\n<TITLE></TITLE>\\n</HEAD>\\n<BODY><h2>The Annual W
 elcome BBQ</h2>\n<p>Everyone is welcome to a welcome BBQ. It will be held 
 at the school and sausages will be provided. It would be appreciated if ea
 ch family could bring a plate of food to share. This is a friendly and inf
 ormal social event.</p>\n</BODY></HTML>
END:VEVENT
BEGIN:VEVENT
UID:ai1ec-3046@yarranlea.qld.edu.au
DTSTAMP:20190227T223552Z
CATEGORIES:
CONTACT:Parents & Friends Committee
DESCRIPTION:This date has been altered from the original date.
DTSTART;TZID=Australia/Brisbane:20170315T180000
DTEND;TZID=Australia/Brisbane:20170315T193000
GEO:-27.538667;+153.063649
LOCATION:Yarranlea Primary School @ 176 Messines Ridge Rd\, Mount Gravatt Q
 LD 4122\, Australia
SEQUENCE:0
SUMMARY:P&F Meeting
URL:https://yarranlea.qld.edu.au/event/pf-meeting-2/
X-COST-TYPE:free
X-ALT-DESC;FMTTYPE=text/html:<!DOCTYPE HTML PUBLIC '-//W3C//DTD HTML 3.2//E
 N'>\\n<HTML>\\n<HEAD>\\n<TITLE></TITLE>\\n</HEAD>\\n<BODY><p>This date has
  been altered from the original date.</p>\n</BODY></HTML>
END:VEVENT
BEGIN:VEVENT
UID:ai1ec-3106@yarranlea.qld.edu.au
DTSTAMP:20190227T223552Z
CATEGORIES:
CONTACT:Paul Trotter\; principal@yarranlea.qld.edu.au
DESCRIPTION:We will be celebrating our new school leaders with a brief cere
 mony. The students will be presented with their leadership badges and we m
 ay be able to persuade them to give a small speech. This will be followed 
 by an afternoon tea.\n 
DTSTART;TZID=Australia/Brisbane:20170323T140000
DTEND;TZID=Australia/Brisbane:20170323T150000
GEO:-27.544066;+153.065654
LOCATION:Yarranlea Primary School @ 176 Messines Ridge Rd\, Mount Gravatt Q
 LD 4122\, Australia
SEQUENCE:0
SUMMARY:Leadership Afternoon Tea
URL:https://yarranlea.qld.edu.au/event/leadership-afternoon-tea/
X-COST-TYPE:free
X-ALT-DESC;FMTTYPE=text/html:<!DOCTYPE HTML PUBLIC '-//W3C//DTD HTML 3.2//E
 N'>\\n<HTML>\\n<HEAD>\\n<TITLE></TITLE>\\n</HEAD>\\n<BODY><p>We will be ce
 lebrating our new school leaders with a brief ceremony. The students will 
 be presented with their leadership badges and we may be able to persuade t
 hem to give a small speech. This will be followed by an afternoon tea.</p>
 \n<p> </p>\n</BODY></HTML>
END:VEVENT
END:VCALENDAR
